BEGIN:VCALENDAR
VERSION:2.0
PRODID:spatie/icalendar-generator
DESCRIPTION:Veranstaltungen von Grobi&amp;#039\;s Dartseite
X-WR-CALDESC:Veranstaltungen von Grobi&amp;#039\;s Dartseite
REFRESH-INTERVAL;VALUE=DURATION:PT1440M
X-PUBLISHED-TTL:PT1440M
BEGIN:VTIMEZONE
TZID:Etc/GMT-1
BEGIN:STANDARD
DTSTART:20250729T160000Z
TZOFFSETFROM:+0100
TZOFFSETTO:+0100
END:STANDARD
END:VTIMEZONE
BEGIN:VTIMEZONE
TZID:UTC
BEGIN:STANDARD
DTSTART:20250726T190707Z
TZOFFSETFROM:+0000
TZOFFSETTO:+0000
END:STANDARD
END:VTIMEZONE
BEGIN:VEVENT
UID:864-623
DTSTAMP:20260422T190707Z
SUMMARY:NMS DC 180 - Dart Freunde Lola
LOCATION:
ORGANIZER;CN=Andreas Gropp:MAILTO:info1@grobi.org
DTSTART;TZID=Etc/GMT-1:20260425T160000
DTEND;TZID=Etc/GMT-1:20260425T190000
X-ALT-DESC;FMTTYPE=TEXT/HTML:
CATEGORIES:Norddart
URL;VALUE=URI:https://grobi.org/mc-events/nms-dc-180-dart-freunde-lola/
METHOD:PUBLISH
END:VEVENT
END:VCALENDAR