BEGIN:VCALENDAR
VERSION:2.0
PRODID:spatie/icalendar-generator
DESCRIPTION:Veranstaltungen von Grobi&amp;#039\;s Dartseite
X-WR-CALDESC:Veranstaltungen von Grobi&amp;#039\;s Dartseite
REFRESH-INTERVAL;VALUE=DURATION:PT1440M
X-PUBLISHED-TTL:PT1440M
BEGIN:VTIMEZONE
TZID:Etc/GMT-1
BEGIN:STANDARD
DTSTART:20250224T170000Z
TZOFFSETFROM:+0100
TZOFFSETTO:+0100
END:STANDARD
END:VTIMEZONE
BEGIN:VTIMEZONE
TZID:UTC
BEGIN:STANDARD
DTSTART:20250726T220853Z
TZOFFSETFROM:+0000
TZOFFSETTO:+0000
END:STANDARD
END:VTIMEZONE
BEGIN:VEVENT
UID:625-526
DTSTAMP:20260422T220853Z
SUMMARY:Sparclub-Fest
LOCATION:
ORGANIZER;CN=Andreas Gropp:MAILTO:andreas.gropp@grobi.org
DTSTART;TZID=Etc/GMT-1:20251121T170000
DTEND;TZID=Etc/GMT-1:20251121T235900
X-ALT-DESC;FMTTYPE=TEXT/HTML:
CATEGORIES:Sparclub
URL;VALUE=URI:https://grobi.org/mc-events/sparclub-fest/
METHOD:PUBLISH
END:VEVENT
END:VCALENDAR