BEGIN:VCALENDAR
VERSION:2.0
PRODID:spatie/icalendar-generator
DESCRIPTION:Veranstaltungen von Grobi&amp;#039\;s Dartseite
X-WR-CALDESC:Veranstaltungen von Grobi&amp;#039\;s Dartseite
REFRESH-INTERVAL;VALUE=DURATION:PT1440M
X-PUBLISHED-TTL:PT1440M
BEGIN:VTIMEZONE
TZID:Etc/GMT-1
BEGIN:STANDARD
DTSTART:20240429T200000Z
TZOFFSETFROM:+0100
TZOFFSETTO:+0100
END:STANDARD
END:VTIMEZONE
BEGIN:VTIMEZONE
TZID:UTC
BEGIN:STANDARD
DTSTART:20250729T161954Z
TZOFFSETFROM:+0000
TZOFFSETTO:+0000
END:STANDARD
END:VTIMEZONE
BEGIN:VEVENT
UID:267-185
DTSTAMP:20260425T161954Z
SUMMARY:The Untouchables - Küstenkrüppel
LOCATION:
ORGANIZER;CN=admin:MAILTO:info@grobi.org
DTSTART;TZID=Etc/GMT-1:20250124T200000
DTEND;TZID=Etc/GMT-1:20250124T233000
X-ALT-DESC;FMTTYPE=TEXT/HTML:
CATEGORIES:Stadtliga NMS
URL;VALUE=URI:https://grobi.org/mc-events/the-untouchables-kuestenkrueppel/
METHOD:PUBLISH
END:VEVENT
END:VCALENDAR