BEGIN:VCALENDAR
VERSION:2.0
PRODID:spatie/icalendar-generator
DESCRIPTION:Veranstaltungen von Grobi&amp;#039\;s Dartseite
X-WR-CALDESC:Veranstaltungen von Grobi&amp;#039\;s Dartseite
REFRESH-INTERVAL;VALUE=DURATION:PT1440M
X-PUBLISHED-TTL:PT1440M
BEGIN:VTIMEZONE
TZID:Etc/GMT-1
BEGIN:STANDARD
DTSTART:20250803T193000Z
TZOFFSETFROM:+0100
TZOFFSETTO:+0100
END:STANDARD
END:VTIMEZONE
BEGIN:VTIMEZONE
TZID:UTC
BEGIN:STANDARD
DTSTART:20250726T114620Z
TZOFFSETFROM:+0000
TZOFFSETTO:+0000
END:STANDARD
END:VTIMEZONE
BEGIN:VEVENT
UID:907-664
DTSTAMP:20260422T114620Z
SUMMARY:DARTEN IN DEN MAI - Doppel Deluxe
LOCATION:
ORGANIZER;CN=Andreas Gropp:MAILTO:info1@grobi.org
DTSTART;TZID=Etc/GMT-1:20260430T193000
DTEND;TZID=Etc/GMT-1:20260430T235900
X-ALT-DESC;FMTTYPE=TEXT/HTML:
CATEGORIES:Dartturniere
URL;VALUE=URI:https://grobi.org/mc-events/darten-in-den-mai-doppel-deluxe/
METHOD:PUBLISH
END:VEVENT
END:VCALENDAR