BEGIN:VCALENDAR
VERSION:2.0
PRODID:spatie/icalendar-generator
DESCRIPTION:Veranstaltungen von Grobi&amp;#039\;s Dartseite
X-WR-CALDESC:Veranstaltungen von Grobi&amp;#039\;s Dartseite
REFRESH-INTERVAL;VALUE=DURATION:PT1440M
X-PUBLISHED-TTL:PT1440M
BEGIN:VTIMEZONE
TZID:Etc/GMT-1
BEGIN:STANDARD
DTSTART:20250909T160000Z
TZOFFSETFROM:+0100
TZOFFSETTO:+0100
END:STANDARD
END:VTIMEZONE
BEGIN:VTIMEZONE
TZID:UTC
BEGIN:STANDARD
DTSTART:20250725T114052Z
TZOFFSETFROM:+0000
TZOFFSETTO:+0000
END:STANDARD
END:VTIMEZONE
BEGIN:VEVENT
UID:875-634
DTSTAMP:20260421T114052Z
SUMMARY:NMS DC 180 - Kruppke Panther's
LOCATION:
ORGANIZER;CN=Andreas Gropp:MAILTO:info1@grobi.org
DTSTART;TZID=Etc/GMT-1:20260606T160000
DTEND;TZID=Etc/GMT-1:20260606T190000
X-ALT-DESC;FMTTYPE=TEXT/HTML:
CATEGORIES:Norddart
URL;VALUE=URI:https://grobi.org/mc-events/nms-dc-180-kruppke-panthers-4/
METHOD:PUBLISH
END:VEVENT
END:VCALENDAR