BEGIN:VCALENDAR
VERSION:2.0
PRODID:spatie/icalendar-generator
DESCRIPTION:Veranstaltungen von Grobi&amp;#039\;s Dartseite
X-WR-CALDESC:Veranstaltungen von Grobi&amp;#039\;s Dartseite
REFRESH-INTERVAL;VALUE=DURATION:PT1440M
X-PUBLISHED-TTL:PT1440M
BEGIN:VTIMEZONE
TZID:Etc/GMT-1
BEGIN:STANDARD
DTSTART:20250225T170000Z
TZOFFSETFROM:+0100
TZOFFSETTO:+0100
END:STANDARD
END:VTIMEZONE
BEGIN:VTIMEZONE
TZID:UTC
BEGIN:STANDARD
DTSTART:20250726T190304Z
TZOFFSETFROM:+0000
TZOFFSETTO:+0000
END:STANDARD
END:VTIMEZONE
BEGIN:VEVENT
UID:718-477
DTSTAMP:20260422T190304Z
SUMMARY:The Untouchables - Dummspatzen
LOCATION:
ORGANIZER;CN=admin:MAILTO:info@grobi.org
DTSTART;TZID=Etc/GMT-1:20251122T170000
DTEND;TZID=Etc/GMT-1:20251122T200000
X-ALT-DESC;FMTTYPE=TEXT/HTML:
CATEGORIES:Norddart
URL;VALUE=URI:https://grobi.org/mc-events/the-untouchables-dummspatzen-4/
METHOD:PUBLISH
END:VEVENT
END:VCALENDAR