BEGIN:VCALENDAR
VERSION:2.0
PRODID:-//wp-events-plugin.com//7.2.3.1//EN
BEGIN:VEVENT
UID:57@grobi.org
DTSTART;TZID=Europe/Berlin:20240906T193000
DTEND;TZID=Europe/Berlin:20240906T234500
DTSTAMP:20240823T131111Z
URL:https://grobi.org/events/offenes-doppel-deluxe-dc-180/
SUMMARY:Offenes Doppel Deluxe @DC 180
DESCRIPTION:
ATTACH;FMTTYPE=image/jpeg:https://grobi.org/wp-content/uploads/2024/08/dc1
 80-plakat-2024-09-06-doppel-deluxe.png
CATEGORIES:E-Dart-Turniere
LOCATION:Dartclub DC 180 e.V.\, Wasbeker Straße 45\, Neumünster\, Schlesw
 ig-Holstein\, 24534\, Deutschland
X-APPLE-STRUCTURED-LOCATION;VALUE=URI;X-ADDRESS=Wasbeker Straße 45\, Neum
 ünster\, Schleswig-Holstein\, 24534\, Deutschland;X-APPLE-RADIUS=100;X-TI
 TLE=Dartclub DC 180 e.V.:geo:0,0
END:VEVENT
BEGIN:VTIMEZONE
TZID:Europe/Berlin
X-LIC-LOCATION:Europe/Berlin
BEGIN:DAYLIGHT
DTSTART:20240331T030000
TZOFFSETFROM:+0100
TZOFFSETTO:+0200
TZNAME:CEST
END:DAYLIGHT
END:VTIMEZONE
END:VCALENDAR