BEGIN:VCALENDAR
VERSION:2.0
PRODID:-//wp-events-plugin.com//7.2.3.1//EN
BEGIN:VEVENT
UID:53@grobi.org
DTSTART;TZID=Europe/Berlin:20240803T110000
DTEND;TZID=Europe/Berlin:20240803T234500
DTSTAMP:20240711T162814Z
URL:https://grobi.org/events/edsv-ligaabschlussfest-2024-1/
SUMMARY:EDSV Ligaabschlussfest 2024-1
DESCRIPTION:
ATTACH;FMTTYPE=image/jpeg:https://grobi.org/wp-content/uploads/2024/07/Fly
 er-LAF-2024-1-neu-scaled.jpg
CATEGORIES:E-Dart-Turniere
LOCATION:Kieler ETV Treff\, Große Ziegelstraße 54\, Kiel\, Schleswig-Hols
 tein\, 24148\, Deutschland
X-APPLE-STRUCTURED-LOCATION;VALUE=URI;X-ADDRESS=Große Ziegelstraße 54\, K
 iel\, Schleswig-Holstein\, 24148\, Deutschland;X-APPLE-RADIUS=100;X-TITLE=
 Kieler ETV Treff:geo:0,0
END:VEVENT
BEGIN:VTIMEZONE
TZID:Europe/Berlin
X-LIC-LOCATION:Europe/Berlin
BEGIN:DAYLIGHT
DTSTART:20240331T030000
TZOFFSETFROM:+0100
TZOFFSETTO:+0200
TZNAME:CEST
END:DAYLIGHT
END:VTIMEZONE
END:VCALENDAR