BEGIN:VCALENDAR
VERSION:2.0
PRODID:-//wp-events-plugin.com//7.2.3.1//EN
BEGIN:VEVENT
UID:54@grobi.org
DTSTART;TZID=Europe/Berlin:20250307T170000
DTEND;TZID=Europe/Berlin:20250307T234500
DTSTAMP:20240716T140417Z
URL:https://grobi.org/events/10-fehmarn-open/
SUMMARY:10.Fehmarn Open
DESCRIPTION:
ATTACH;FMTTYPE=image/jpeg:https://grobi.org/wp-content/uploads/2024/07/feh
 marn-open-2025.jpg
CATEGORIES:E-Dart-Turniere
END:VEVENT
BEGIN:VTIMEZONE
TZID:Europe/Berlin
X-LIC-LOCATION:Europe/Berlin
BEGIN:STANDARD
DTSTART:20241027T020000
TZOFFSETFROM:+0200
TZOFFSETTO:+0100
TZNAME:CET
END:STANDARD
END:VTIMEZONE
END:VCALENDAR